BEGIN:VCALENDAR
PRODID:-//eluceo/ical//2.0/EN
VERSION:2.0
CALSCALE:GREGORIAN
BEGIN:VEVENT
UID:6a8aed148d97fd2202de5376066c0950
DTSTAMP:20260424T084915Z
SUMMARY:AT-Stich 24 & Generalversammlung
DESCRIPTION:https://www.armeetaucher.ch/event/stich-24-generalversammlung
DTSTART:20240629T133000
DTEND:20240629T163000
LOCATION:RSA Buchs
ORGANIZER;CN=Armeetaucher.ch:mailto:info@armeetaucher.ch
END:VEVENT
END:VCALENDAR
